BEGIN:VCALENDAR
VERSION:2.0
PRODID:-//National Shrine of Our Lady of La Leche - Mission Nombre de Dios – St. Augustine, Florida - ECPv6.15.17.1//NONSGML v1.0//EN
CALSCALE:GREGORIAN
METHOD:PUBLISH
X-WR-CALNAME:National Shrine of Our Lady of La Leche - Mission Nombre de Dios – St. Augustine, Florida
X-ORIGINAL-URL:https://missionandshrine.org
X-WR-CALDESC:Events for National Shrine of Our Lady of La Leche - Mission Nombre de Dios – St. Augustine, Florida
REFRESH-INTERVAL;VALUE=DURATION:PT1H
X-Robots-Tag:noindex
X-PUBLISHED-TTL:PT1H
BEGIN:VTIMEZONE
TZID:America/New_York
BEGIN:DAYLIGHT
TZOFFSETFROM:-0500
TZOFFSETTO:-0400
TZNAME:EDT
DTSTART:20250309T070000
END:DAYLIGHT
BEGIN:STANDARD
TZOFFSETFROM:-0400
TZOFFSETTO:-0500
TZNAME:EST
DTSTART:20251102T060000
END:STANDARD
BEGIN:DAYLIGHT
TZOFFSETFROM:-0500
TZOFFSETTO:-0400
TZNAME:EDT
DTSTART:20260308T070000
END:DAYLIGHT
BEGIN:STANDARD
TZOFFSETFROM:-0400
TZOFFSETTO:-0500
TZNAME:EST
DTSTART:20261101T060000
END:STANDARD
BEGIN:DAYLIGHT
TZOFFSETFROM:-0500
TZOFFSETTO:-0400
TZNAME:EDT
DTSTART:20270314T070000
END:DAYLIGHT
BEGIN:STANDARD
TZOFFSETFROM:-0400
TZOFFSETTO:-0500
TZNAME:EST
DTSTART:20271107T060000
END:STANDARD
END:VTIMEZONE
BEGIN:VEVENT
DTSTART;TZID=America/New_York:20260314T090000
DTEND;TZID=America/New_York:20260314T153000
DTSTAMP:20260423T091215
CREATED:20260129T163256Z
LAST-MODIFIED:20260129T203727Z
UID:1070-1773478800-1773502200@missionandshrine.org
SUMMARY:Well of Renewal: A Catholic Caregiver Lenten Retreat
DESCRIPTION:Experience a day that renews your emotional\, mental and spiritual well-being and find wisdom and guidance to help you navigate this season with grace. The retreat will take place on Saturday\, March 14\, from 9 a.m.- 3:30 p.m. with an optional welcoming Mass at 8 a.m. at the National Shrine of Our Lady of La Leche at Mission Nombre de Dios\, 101 San Marco Ave. in St. Augustine. The retreat will support those who have been caregivers in the past or are currently caring for others at home and professionally. The day will include talks\, time for reflection and silence\, adoration and a catered lunch. For details\, please visit the resource page for caregivers at https://dosafl.com/office-of-family-life/caregivers/. \n\n\n\nSponsored by Ascension St. Vincent’s and in collaboration with Catholic Caregiver
URL:https://missionandshrine.org/event/well-of-renewal-a-catholic-caregiver-lenten-retreat/
LOCATION:National Shrine of Our Lady of La Leche\, 101 San Marco Avenue\, St. Augustine\, Florida\, 32084\, United States
END:VEVENT
END:VCALENDAR