BEGIN:VCALENDAR
VERSION:2.0
PRODID:-//National Shrine of Our Lady of La Leche - Mission Nombre de Dios – St. Augustine, Florida - ECPv6.15.17.1//NONSGML v1.0//EN
CALSCALE:GREGORIAN
METHOD:PUBLISH
X-WR-CALNAME:National Shrine of Our Lady of La Leche - Mission Nombre de Dios – St. Augustine, Florida
X-ORIGINAL-URL:https://missionandshrine.org
X-WR-CALDESC:Events for National Shrine of Our Lady of La Leche - Mission Nombre de Dios – St. Augustine, Florida
REFRESH-INTERVAL;VALUE=DURATION:PT1H
X-Robots-Tag:noindex
X-PUBLISHED-TTL:PT1H
BEGIN:VTIMEZONE
TZID:America/New_York
BEGIN:DAYLIGHT
TZOFFSETFROM:-0500
TZOFFSETTO:-0400
TZNAME:EDT
DTSTART:20250309T070000
END:DAYLIGHT
BEGIN:STANDARD
TZOFFSETFROM:-0400
TZOFFSETTO:-0500
TZNAME:EST
DTSTART:20251102T060000
END:STANDARD
BEGIN:DAYLIGHT
TZOFFSETFROM:-0500
TZOFFSETTO:-0400
TZNAME:EDT
DTSTART:20260308T070000
END:DAYLIGHT
BEGIN:STANDARD
TZOFFSETFROM:-0400
TZOFFSETTO:-0500
TZNAME:EST
DTSTART:20261101T060000
END:STANDARD
BEGIN:DAYLIGHT
TZOFFSETFROM:-0500
TZOFFSETTO:-0400
TZNAME:EDT
DTSTART:20270314T070000
END:DAYLIGHT
BEGIN:STANDARD
TZOFFSETFROM:-0400
TZOFFSETTO:-0500
TZNAME:EST
DTSTART:20271107T060000
END:STANDARD
END:VTIMEZONE
BEGIN:VEVENT
DTSTART;TZID=America/New_York:20260402T000000
DTEND;TZID=America/New_York:20260402T235959
DTSTAMP:20260423T091135
CREATED:20260323T163206Z
LAST-MODIFIED:20260323T164946Z
UID:1520-1775088000-1775174399@missionandshrine.org
SUMMARY:Holy Week - Holy Thursday
DESCRIPTION:Confession: 10 to Noon and 2 to 4 p.m. \n\n\n\nAs we prepare our hearts for the joy of Easter\, the National Shrine of Our Lady of La Leche offers a place of quiet reflection\, reconciliation and worship rooted in more than four centuries of faith. The Shrine’s Holy Week and Easter celebrations draw the faithful into the heart of the Church’s most sacred days\, culminating in the celebration of the Resurrection. \n\n\n\nSee our full schedule of Holy Week and Easter liturgies at the National Shrine of Our Lady of La Leche. All are welcome to join us as we walk with Christ through his Passion\, death and glorious Resurrection
URL:https://missionandshrine.org/event/holy-week-holy-thursday/
LOCATION:National Shrine of Our Lady of La Leche\, 101 San Marco Avenue\, St. Augustine\, Florida\, 32084\, United States
ATTACH;FMTTYPE=image/jpeg:https://missionandshrine.org/wp-content/uploads/2026/02/TSOLOLL_Easter_Image-scaled.jpg
END:VEVENT
END:VCALENDAR